BEGIN:VCALENDAR
VERSION:2.0
PRODID:-//50.87.151.20//NONSGML kigkonsult.se iCalcreator 2.20//
CALSCALE:GREGORIAN
METHOD:PUBLISH
X-FROM-URL:http://ismw.org.au
X-WR-TIMEZONE:Australia/Sydney
BEGIN:VTIMEZONE
TZID:Australia/Sydney
X-LIC-LOCATION:Australia/Sydney
BEGIN:STANDARD
DTSTART:20190407T030000
TZOFFSETFROM:+1100
TZOFFSETTO:+1000
TZNAME:AEST
END:STANDARD
BEGIN:DAYLIGHT
DTSTART:20181007T020000
TZOFFSETFROM:+1000
TZOFFSETTO:+1100
TZNAME:AEDT
END:DAYLIGHT
END:VTIMEZONE
BEGIN:VEVENT
UID:ai1ec-1330@ismw.org.au
DTSTAMP:20190226T223415Z
CATEGORIES;LANGUAGE=en-AU:Guest Speaker\,Ramadan Programs
CONTACT:
DESCRIPTION:
DTSTART;TZID=Australia/Sydney:20170619T200000
DTEND;TZID=Australia/Sydney:20170619T213000
GEO:-33.743438;+151.293473
LOCATION:Dee Why Masjid @ 12 S Creek Rd\, Dee Why NSW 2099\, Australia
SEQUENCE:0
SUMMARY:Transfer Pahala Kepada Orang Lain
URL:http://ismw.org.au/event/transfer-pahala-kepada-orang-lain/
X-COST-TYPE:free
END:VEVENT
BEGIN:VEVENT
UID:ai1ec-1331@ismw.org.au
DTSTAMP:20190226T223415Z
CATEGORIES;LANGUAGE=en-AU:Guest Speaker\,Ramadan Programs
CONTACT:
DESCRIPTION:Ba’da Fajr
DTSTART;TZID=Australia/Sydney:20170620T053000
DTEND;TZID=Australia/Sydney:20170620T060000
GEO:-33.743438;+151.293473
LOCATION:Dee Why Masjid @ 12 S Creek Rd\, Dee Why NSW 2099\, Australia
SEQUENCE:0
SUMMARY:Fiqh Itikaf
URL:http://ismw.org.au/event/fiqh-itikaf/
X-COST-TYPE:free
X-ALT-DESC;FMTTYPE=text/html:<!DOCTYPE HTML PUBLIC '-//W3C//DTD HTML 3.2//E
 N'>\\n<HTML>\\n<HEAD>\\n<TITLE></TITLE>\\n</HEAD>\\n<BODY><p>Ba’da Fajr</p
 >\n</BODY></HTML>
END:VEVENT
BEGIN:VEVENT
UID:ai1ec-1332@ismw.org.au
DTSTAMP:20190226T223415Z
CATEGORIES;LANGUAGE=en-AU:Guest Speaker\,Ramadan Programs
CONTACT:
DESCRIPTION:
DTSTART;TZID=Australia/Sydney:20170620T200000
DTEND;TZID=Australia/Sydney:20170620T213000
GEO:-33.743438;+151.293473
LOCATION:Dee Why Masjid @ 12 S Creek Rd\, Dee Why NSW 2099\, Australia
SEQUENCE:0
SUMMARY:Bersyukur Ibadah Yang Agung
URL:http://ismw.org.au/event/bersyukur-ibadah-yang-agung/
X-COST-TYPE:free
END:VEVENT
BEGIN:VEVENT
UID:ai1ec-1333@ismw.org.au
DTSTAMP:20190226T223415Z
CATEGORIES;LANGUAGE=en-AU:Guest Speaker\,Ramadan Programs
CONTACT:
DESCRIPTION:Ba’da Fajr
DTSTART;TZID=Australia/Sydney:20170621T053000
DTEND;TZID=Australia/Sydney:20170621T060000
GEO:-33.743438;+151.293473
LOCATION:Dee Why Masjid @ 12 S Creek Rd\, Dee Why NSW 2099\, Australia
SEQUENCE:0
SUMMARY:Fiqh Hari Raya Dan Ied
URL:http://ismw.org.au/event/fiqh-hari-raya-dan-ied/
X-COST-TYPE:free
X-ALT-DESC;FMTTYPE=text/html:<!DOCTYPE HTML PUBLIC '-//W3C//DTD HTML 3.2//E
 N'>\\n<HTML>\\n<HEAD>\\n<TITLE></TITLE>\\n</HEAD>\\n<BODY><p>Ba’da Fajr</p
 >\n</BODY></HTML>
END:VEVENT
BEGIN:VEVENT
UID:ai1ec-1334@ismw.org.au
DTSTAMP:20190226T223415Z
CATEGORIES;LANGUAGE=en-AU:Guest Speaker\,Ramadan Programs
CONTACT:
DESCRIPTION:
DTSTART;TZID=Australia/Sydney:20170621T200000
DTEND;TZID=Australia/Sydney:20170621T213000
GEO:-33.743438;+151.293473
LOCATION:Dee Why Masjid @ 12 S Creek Rd\, Dee Why NSW 2099\, Australia
SEQUENCE:0
SUMMARY:Bahaya Pluralisme Agama
URL:http://ismw.org.au/event/bahaya-pluralisme-agama/
X-COST-TYPE:free
END:VEVENT
END:VCALENDAR
